BEGIN:VCALENDAR
VERSION:2.0
PRODID:-//SPÖ Gallneukirchen - ECPv6.15.20//NONSGML v1.0//EN
CALSCALE:GREGORIAN
METHOD:PUBLISH
X-WR-CALNAME:SPÖ Gallneukirchen
X-ORIGINAL-URL:https://gallneukirchen.spoe.at
X-WR-CALDESC:Veranstaltungen für SPÖ Gallneukirchen
REFRESH-INTERVAL;VALUE=DURATION:PT1H
X-Robots-Tag:noindex
X-PUBLISHED-TTL:PT1H
BEGIN:VTIMEZONE
TZID:UTC
BEGIN:STANDARD
TZOFFSETFROM:+0000
TZOFFSETTO:+0000
TZNAME:UTC
DTSTART:20240101T000000
END:STANDARD
END:VTIMEZONE
BEGIN:VEVENT
DTSTART;TZID=UTC:20250703T193000
DTEND;TZID=UTC:20250703T193000
DTSTAMP:20260422T094710
CREATED:20250707T121634Z
LAST-MODIFIED:20250707T132214Z
UID:4172-1751571000-1751571000@gallneukirchen.spoe.at
SUMMARY:Gemeinderat
DESCRIPTION:
URL:https://gallneukirchen.spoe.at/veranstaltung/gemeinderat/
CATEGORIES:Politik
END:VEVENT
BEGIN:VEVENT
DTSTART;TZID=UTC:20250704T140000
DTEND;TZID=UTC:20250704T140000
DTSTAMP:20260422T094710
CREATED:20250707T132214Z
LAST-MODIFIED:20250707T132214Z
UID:4372-1751637600-1751637600@gallneukirchen.spoe.at
SUMMARY:Themenwanderung
DESCRIPTION:Alles Hopfen
URL:https://gallneukirchen.spoe.at/veranstaltung/themenwanderung-2/
CATEGORIES:Wandern
END:VEVENT
BEGIN:VEVENT
DTSTART;TZID=UTC:20250710T093000
DTEND;TZID=UTC:20250710T093000
DTSTAMP:20260422T094710
CREATED:20250707T132214Z
LAST-MODIFIED:20250707T132214Z
UID:4373-1752139800-1752139800@gallneukirchen.spoe.at
SUMMARY:Rad-Aktiv
DESCRIPTION:Mühlviertler Runde
URL:https://gallneukirchen.spoe.at/veranstaltung/rad-aktiv-2/
CATEGORIES:Radausflug
END:VEVENT
BEGIN:VEVENT
DTSTART;TZID=UTC:20250717T000100
DTEND;TZID=UTC:20250717T000100
DTSTAMP:20260422T094710
CREATED:20250707T132229Z
LAST-MODIFIED:20250707T132229Z
UID:4374-1752710460-1752710460@gallneukirchen.spoe.at
SUMMARY:Tagesausflug
DESCRIPTION:Ein ganzes Dorf voller Mohn
URL:https://gallneukirchen.spoe.at/veranstaltung/tagesausflug-2/
CATEGORIES:Ausflug
END:VEVENT
END:VCALENDAR