BEGIN:VCALENDAR
VERSION:2.0
PRODID:-//SPÖ Gallneukirchen - ECPv6.15.20//NONSGML v1.0//EN
CALSCALE:GREGORIAN
METHOD:PUBLISH
X-ORIGINAL-URL:https://gallneukirchen.spoe.at
X-WR-CALDESC:Veranstaltungen für SPÖ Gallneukirchen
REFRESH-INTERVAL;VALUE=DURATION:PT1H
X-Robots-Tag:noindex
X-PUBLISHED-TTL:PT1H
BEGIN:VTIMEZONE
TZID:UTC
BEGIN:STANDARD
TZOFFSETFROM:+0000
TZOFFSETTO:+0000
TZNAME:UTC
DTSTART:20240101T000000
END:STANDARD
END:VTIMEZONE
BEGIN:VEVENT
DTSTART;TZID=UTC:20250503T170000
DTEND;TZID=UTC:20250503T170000
DTSTAMP:20260422T124346
CREATED:20250707T132059Z
LAST-MODIFIED:20250707T132059Z
UID:4351-1746291600-1746291600@gallneukirchen.spoe.at
SUMMARY:SVG : Arnreit
DESCRIPTION:
URL:https://gallneukirchen.spoe.at/veranstaltung/svg-arnreit/
CATEGORIES:Sport
END:VEVENT
BEGIN:VEVENT
DTSTART;TZID=UTC:20250508T000100
DTEND;TZID=UTC:20250508T000100
DTSTAMP:20260422T124346
CREATED:20250707T132059Z
LAST-MODIFIED:20250707T132059Z
UID:4352-1746662460-1746662460@gallneukirchen.spoe.at
SUMMARY:Frühjahrstreffen
DESCRIPTION:08.–14. Mai: Albena – Bulgariens schönste Küste
URL:https://gallneukirchen.spoe.at/veranstaltung/fruehjahrstreffen/
CATEGORIES:Reise
END:VEVENT
BEGIN:VEVENT
DTSTART;TZID=UTC:20250509T190000
DTEND;TZID=UTC:20250509T190000
DTSTAMP:20260422T124346
CREATED:20250707T132114Z
LAST-MODIFIED:20250707T132114Z
UID:4353-1746817200-1746817200@gallneukirchen.spoe.at
SUMMARY:Freistadt : SVG
DESCRIPTION:
URL:https://gallneukirchen.spoe.at/veranstaltung/freistadt-svg/
CATEGORIES:Sport
END:VEVENT
BEGIN:VEVENT
DTSTART;TZID=UTC:20250515T193000
DTEND;TZID=UTC:20250515T193000
DTSTAMP:20260422T124346
CREATED:20250707T132114Z
LAST-MODIFIED:20250707T132114Z
UID:4354-1747337400-1747337400@gallneukirchen.spoe.at
SUMMARY:Gemeinderat
DESCRIPTION:
URL:https://gallneukirchen.spoe.at/veranstaltung/gemeinderat-3/
CATEGORIES:Politik
END:VEVENT
BEGIN:VEVENT
DTSTART;TZID=UTC:20250517T170000
DTEND;TZID=UTC:20250517T170000
DTSTAMP:20260422T124346
CREATED:20250707T132114Z
LAST-MODIFIED:20250707T132114Z
UID:4355-1747501200-1747501200@gallneukirchen.spoe.at
SUMMARY:SVG : Katsdorf
DESCRIPTION:
URL:https://gallneukirchen.spoe.at/veranstaltung/svg-katsdorf-2/
CATEGORIES:Sport
END:VEVENT
BEGIN:VEVENT
DTSTART;TZID=UTC:20250518T183000
DTEND;TZID=UTC:20250518T183000
DTSTAMP:20260422T124346
CREATED:20250707T132114Z
LAST-MODIFIED:20250707T132114Z
UID:4356-1747593000-1747593000@gallneukirchen.spoe.at
SUMMARY:Befreiungsfeier
DESCRIPTION:Beim Mahnmal für den Frieden
URL:https://gallneukirchen.spoe.at/veranstaltung/befreiungsfeier/
CATEGORIES:Gedenken
END:VEVENT
BEGIN:VEVENT
DTSTART;TZID=UTC:20250521T083000
DTEND;TZID=UTC:20250521T083000
DTSTAMP:20260422T124346
CREATED:20250707T132129Z
LAST-MODIFIED:20250707T132129Z
UID:4357-1747816200-1747816200@gallneukirchen.spoe.at
SUMMARY:Mutter-/Vatertagsfahrt
DESCRIPTION:Vom Kürbishof aufs Schiff durch den Strudengau
URL:https://gallneukirchen.spoe.at/veranstaltung/mutter-vatertagsfahrt-2/
CATEGORIES:Ausflug
END:VEVENT
BEGIN:VEVENT
DTSTART;TZID=UTC:20250522T140000
DTEND;TZID=UTC:20250522T140000
DTSTAMP:20260422T124346
CREATED:20250707T132129Z
LAST-MODIFIED:20250707T132129Z
UID:4358-1747922400-1747922400@gallneukirchen.spoe.at
SUMMARY:Unser Erzählcafé
DESCRIPTION:Was ich schon immer (einmal) tun wollte
URL:https://gallneukirchen.spoe.at/veranstaltung/unser-erzaehlcafe-4/
CATEGORIES:Gespräch
END:VEVENT
BEGIN:VEVENT
DTSTART;TZID=UTC:20250523T000100
DTEND;TZID=UTC:20250523T000100
DTSTAMP:20260422T124346
CREATED:20250707T132129Z
LAST-MODIFIED:20250707T132129Z
UID:4359-1747958460-1747958460@gallneukirchen.spoe.at
SUMMARY:Bezirkswandertag Reichenthal
DESCRIPTION:
URL:https://gallneukirchen.spoe.at/veranstaltung/bezirkswandertag-reichenthal/
CATEGORIES:Wandern
END:VEVENT
BEGIN:VEVENT
DTSTART;TZID=UTC:20250523T193000
DTEND;TZID=UTC:20250523T193000
DTSTAMP:20260422T124346
CREATED:20250707T132129Z
LAST-MODIFIED:20250707T132129Z
UID:4360-1748028600-1748028600@gallneukirchen.spoe.at
SUMMARY:Lembach : SVG
DESCRIPTION:
URL:https://gallneukirchen.spoe.at/veranstaltung/lembach-svg/
CATEGORIES:Sport
END:VEVENT
BEGIN:VEVENT
DTSTART;TZID=UTC:20250531T170000
DTEND;TZID=UTC:20250531T170000
DTSTAMP:20260422T124346
CREATED:20250707T132144Z
LAST-MODIFIED:20250707T132144Z
UID:4361-1748710800-1748710800@gallneukirchen.spoe.at
SUMMARY:SVG : Wartberg
DESCRIPTION:
URL:https://gallneukirchen.spoe.at/veranstaltung/svg-wartberg/
CATEGORIES:Sport
END:VEVENT
END:VCALENDAR