BEGIN:VCALENDAR
VERSION:2.0
PRODID:-//SPÖ Gallneukirchen - ECPv6.15.20//NONSGML v1.0//EN
CALSCALE:GREGORIAN
METHOD:PUBLISH
X-WR-CALNAME:SPÖ Gallneukirchen
X-ORIGINAL-URL:https://gallneukirchen.spoe.at
X-WR-CALDESC:Veranstaltungen für SPÖ Gallneukirchen
REFRESH-INTERVAL;VALUE=DURATION:PT1H
X-Robots-Tag:noindex
X-PUBLISHED-TTL:PT1H
BEGIN:VTIMEZONE
TZID:UTC
BEGIN:STANDARD
TZOFFSETFROM:+0000
TZOFFSETTO:+0000
TZNAME:UTC
DTSTART:20240101T000000
END:STANDARD
END:VTIMEZONE
BEGIN:VEVENT
DTSTART;TZID=UTC:20250301T200000
DTEND;TZID=UTC:20250301T200000
DTSTAMP:20260422T160936
CREATED:20250707T132025Z
LAST-MODIFIED:20250707T132025Z
UID:4329-1740859200-1740859200@gallneukirchen.spoe.at
SUMMARY:Feuerwehrball
DESCRIPTION:
URL:https://gallneukirchen.spoe.at/veranstaltung/feuerwehrball/
CATEGORIES:Veranstaltung
END:VEVENT
BEGIN:VEVENT
DTSTART;TZID=UTC:20250304T123000
DTEND;TZID=UTC:20250304T123000
DTSTAMP:20260422T160936
CREATED:20250707T132025Z
LAST-MODIFIED:20250707T132025Z
UID:4330-1741091400-1741091400@gallneukirchen.spoe.at
SUMMARY:Faschingsnachmittag im Club
DESCRIPTION:
URL:https://gallneukirchen.spoe.at/veranstaltung/faschingsnachmittag-im-club-2/
CATEGORIES:Veranstaltung
END:VEVENT
BEGIN:VEVENT
DTSTART;TZID=UTC:20250307T150000
DTEND;TZID=UTC:20250307T150000
DTSTAMP:20260422T160936
CREATED:20250707T132025Z
LAST-MODIFIED:20250707T132025Z
UID:4332-1741359600-1741359600@gallneukirchen.spoe.at
SUMMARY:Workshop: Wer war Olympe de Gouges?
DESCRIPTION:Einführungsworkshop mit Dr. Viktoria Frysak
URL:https://gallneukirchen.spoe.at/veranstaltung/workshop-wer-war-olympe-de-gouges/
CATEGORIES:Workshop
END:VEVENT
BEGIN:VEVENT
DTSTART;TZID=UTC:20250307T193000
DTEND;TZID=UTC:20250307T193000
DTSTAMP:20260422T160936
CREATED:20250707T132025Z
LAST-MODIFIED:20250707T132025Z
UID:4333-1741375800-1741375800@gallneukirchen.spoe.at
SUMMARY:Konzertperformance: Hommage an Olympe de Gouges
DESCRIPTION:Musikalische Hommage mit Improvisation und Texten
URL:https://gallneukirchen.spoe.at/veranstaltung/konzertperformance-hommage-an-olympe-de-gouges/
CATEGORIES:Kultur
END:VEVENT
BEGIN:VEVENT
DTSTART;TZID=UTC:20250314T170000
DTEND;TZID=UTC:20250314T170000
DTSTAMP:20260422T160936
CREATED:20250707T132027Z
LAST-MODIFIED:20250707T132027Z
UID:4334-1741971600-1741971600@gallneukirchen.spoe.at
SUMMARY:Sing mit
DESCRIPTION:Ein lockeres Zusammensein für alle\, die gerne Singen!
URL:https://gallneukirchen.spoe.at/veranstaltung/sing-mit/
CATEGORIES:Freizeit
END:VEVENT
BEGIN:VEVENT
DTSTART;TZID=UTC:20250320T140000
DTEND;TZID=UTC:20250320T140000
DTSTAMP:20260422T160936
CREATED:20250707T121502Z
LAST-MODIFIED:20250707T132027Z
UID:4136-1742479200-1742479200@gallneukirchen.spoe.at
SUMMARY:Unser Erzählcafé
DESCRIPTION:Pensionsschock: Und plötzlich bist du niemand mehr
URL:https://gallneukirchen.spoe.at/veranstaltung/unser-erzaehlcafe/
CATEGORIES:Gespräch
END:VEVENT
BEGIN:VEVENT
DTSTART;TZID=UTC:20250320T193000
DTEND;TZID=UTC:20250320T193000
DTSTAMP:20260422T160936
CREATED:20250707T132027Z
LAST-MODIFIED:20250707T132027Z
UID:4336-1742499000-1742499000@gallneukirchen.spoe.at
SUMMARY:Gemeinderat
DESCRIPTION:
URL:https://gallneukirchen.spoe.at/veranstaltung/gemeinderat-2/
CATEGORIES:Politik
END:VEVENT
BEGIN:VEVENT
DTSTART;TZID=UTC:20250321T000100
DTEND;TZID=UTC:20250321T000100
DTSTAMP:20260422T160936
CREATED:20250707T132027Z
LAST-MODIFIED:20250707T132027Z
UID:4337-1742515260-1742515260@gallneukirchen.spoe.at
SUMMARY:PVOÖ-Bezirkskegelmeisterschaft
DESCRIPTION:
URL:https://gallneukirchen.spoe.at/veranstaltung/pvooe-bezirkskegelmeisterschaft/
CATEGORIES:Sport
END:VEVENT
BEGIN:VEVENT
DTSTART;TZID=UTC:20250322T153000
DTEND;TZID=UTC:20250322T153000
DTSTAMP:20260422T160936
CREATED:20250707T132027Z
LAST-MODIFIED:20250707T132027Z
UID:4338-1742657400-1742657400@gallneukirchen.spoe.at
SUMMARY:SVG : Altenberg
DESCRIPTION:
URL:https://gallneukirchen.spoe.at/veranstaltung/svg-altenberg/
CATEGORIES:Sport
END:VEVENT
BEGIN:VEVENT
DTSTART;TZID=UTC:20250329T153000
DTEND;TZID=UTC:20250329T153000
DTSTAMP:20260422T160936
CREATED:20250707T132029Z
LAST-MODIFIED:20250707T132029Z
UID:4339-1743262200-1743262200@gallneukirchen.spoe.at
SUMMARY:Julbach : SVG
DESCRIPTION:
URL:https://gallneukirchen.spoe.at/veranstaltung/julbach-svg/
CATEGORIES:Sport
END:VEVENT
END:VCALENDAR