BEGIN:VCALENDAR
VERSION:2.0
PRODID:-//SPÖ Gallneukirchen - ECPv6.15.20//NONSGML v1.0//EN
CALSCALE:GREGORIAN
METHOD:PUBLISH
X-ORIGINAL-URL:https://gallneukirchen.spoe.at
X-WR-CALDESC:Veranstaltungen für SPÖ Gallneukirchen
REFRESH-INTERVAL;VALUE=DURATION:PT1H
X-Robots-Tag:noindex
X-PUBLISHED-TTL:PT1H
BEGIN:VTIMEZONE
TZID:UTC
BEGIN:STANDARD
TZOFFSETFROM:+0000
TZOFFSETTO:+0000
TZNAME:UTC
DTSTART:20250101T000000
END:STANDARD
END:VTIMEZONE
BEGIN:VEVENT
DTSTART;TZID=UTC:20260425T193000
DTEND;TZID=UTC:20260425T213000
DTSTAMP:20260421T195757
CREATED:20260421T105402Z
LAST-MODIFIED:20260421T110636Z
UID:5516-1777145400-1777152600@gallneukirchen.spoe.at
SUMMARY:Hildegard Knef
DESCRIPTION:Am 25. April\, 19.30 Uhr LMS Gallneukirchen\, erleben wir einen “Hildegard Knef“-Abend. Helene Pointner singt (anders als Hildegard Knef) mit Stephan Pointner und Alexander E. Fennon.
URL:https://gallneukirchen.spoe.at/veranstaltung/hildegard-knef/
LOCATION:LMS
END:VEVENT
BEGIN:VEVENT
DTSTART;TZID=UTC:20260430T110000
DTEND;TZID=UTC:20260430T190000
DTSTAMP:20260421T195757
CREATED:20260406T140855Z
LAST-MODIFIED:20260406T140855Z
UID:5432-1777546800-1777575600@gallneukirchen.spoe.at
SUMMARY:Pensionisten: Rad-Aktiv Panoramatour Böhmerwald
DESCRIPTION:
URL:https://gallneukirchen.spoe.at/veranstaltung/pensionisten-rad-aktiv-panoramatour-boehmerwald/
LOCATION:Treffpunkt Clubraum Pensionisten
END:VEVENT
BEGIN:VEVENT
DTSTART;TZID=UTC:20260430T173000
DTEND;TZID=UTC:20260430T220000
DTSTAMP:20260421T195757
CREATED:20260420T104020Z
LAST-MODIFIED:20260421T081025Z
UID:5491-1777570200-1777586400@gallneukirchen.spoe.at
SUMMARY:Maibaumfest 2026
DESCRIPTION:Am 30. April findet ab 17:30 wieder das traditionelle Maibaumfest statt. Aufgestellt wird der Baum von der freiwilligen Feuerwehr Gallneukirchen\, die Stadtkapelle Gallneukirchen sorgt wieder für die musikalische Untermalung.
URL:https://gallneukirchen.spoe.at/veranstaltung/maibaumfest/
LOCATION:Marktplatz
END:VEVENT
BEGIN:VEVENT
DTSTART;TZID=UTC:20260503T090000
DTEND;TZID=UTC:20260503T113000
DTSTAMP:20260421T195757
CREATED:20260420T160906Z
LAST-MODIFIED:20260421T081037Z
UID:5507-1777798800-1777807800@gallneukirchen.spoe.at
SUMMARY:Öffnungstag Heimathaus
DESCRIPTION:Am 1. und 3. Sonntag im Monat (April bis Oktober) ist das Heimathaus von 9h bis 11.30h geöffnet. Das Team des Heimathauses freut sich über zahlreiche Besucherinnen und Besucher.
URL:https://gallneukirchen.spoe.at/veranstaltung/oeffnungstag-heimathaus/
END:VEVENT
BEGIN:VEVENT
DTSTART;TZID=UTC:20260508T190000
DTEND;TZID=UTC:20260508T223000
DTSTAMP:20260421T195757
CREATED:20260406T125721Z
LAST-MODIFIED:20260406T125721Z
UID:5410-1778266800-1778279400@gallneukirchen.spoe.at
SUMMARY:Stadtparteitag der SPÖ Gallneukirchen
DESCRIPTION:
URL:https://gallneukirchen.spoe.at/veranstaltung/stadtparteitag-der-spoe-gallneukirchen/
LOCATION:Gasthaus Landerl
END:VEVENT
BEGIN:VEVENT
DTSTART;TZID=UTC:20260515T080000
DTEND;TZID=UTC:20260515T170000
DTSTAMP:20260421T195757
CREATED:20260406T141121Z
LAST-MODIFIED:20260406T141121Z
UID:5435-1778832000-1778864400@gallneukirchen.spoe.at
SUMMARY:Pensionisten: Bezirkswandertag Steyregg
DESCRIPTION:
URL:https://gallneukirchen.spoe.at/veranstaltung/pensionisten-bezirkswandertag-steyregg/
END:VEVENT
BEGIN:VEVENT
DTSTART;TZID=UTC:20260517T183000
DTEND;TZID=UTC:20260517T200000
DTSTAMP:20260421T195757
CREATED:20260420T160721Z
LAST-MODIFIED:20260421T081246Z
UID:5504-1779042600-1779048000@gallneukirchen.spoe.at
SUMMARY:Befreiungsfeier
DESCRIPTION:Befreiungsfeier des Mauthausen Komitees Gallneukirchen
URL:https://gallneukirchen.spoe.at/veranstaltung/befreiungsfeier-2/
LOCATION:Mahnmal für den Frieden\, Anton-Riepl-Straße
END:VEVENT
BEGIN:VEVENT
DTSTART;TZID=UTC:20260521T080000
DTEND;TZID=UTC:20260521T200000
DTSTAMP:20260421T195757
CREATED:20260406T141318Z
LAST-MODIFIED:20260406T141318Z
UID:5437-1779350400-1779393600@gallneukirchen.spoe.at
SUMMARY:Pensionisten: Mutter-/Vatertagsfahrt Grafenegg und Weinbaugebiet Kamptal
DESCRIPTION:
URL:https://gallneukirchen.spoe.at/veranstaltung/pensionisten-mutter-vatertagsfahrt-grafenegg-und-weinbaugebiet-kamptal/
LOCATION:Hofwiesen
END:VEVENT
BEGIN:VEVENT
DTSTART;TZID=UTC:20260521T193000
DTEND;TZID=UTC:20260521T223000
DTSTAMP:20260421T195757
CREATED:20260406T131028Z
LAST-MODIFIED:20260406T131028Z
UID:5415-1779391800-1779402600@gallneukirchen.spoe.at
SUMMARY:Gemeinderatssitzung 2/2026
DESCRIPTION:
URL:https://gallneukirchen.spoe.at/veranstaltung/gemeinderatssitzung-2-2026/
LOCATION:Gusenhalle\, Veitsdorfer Weg 10\, Gallneukirchen\, Oberösterreich\, 4210\, Austria
END:VEVENT
BEGIN:VEVENT
DTSTART;TZID=UTC:20260528T131500
DTEND;TZID=UTC:20260528T170000
DTSTAMP:20260421T195757
CREATED:20260406T141449Z
LAST-MODIFIED:20260406T141449Z
UID:5440-1779974100-1779987600@gallneukirchen.spoe.at
SUMMARY:Pensionisten: Themenwanderung Erlebniswelt Affenzeller
DESCRIPTION:
URL:https://gallneukirchen.spoe.at/veranstaltung/pensionisten-themenwanderung-erlebniswelt-affenzeller/
END:VEVENT
BEGIN:VEVENT
DTSTART;TZID=UTC:20260613T193000
DTEND;TZID=UTC:20260613T210000
DTSTAMP:20260421T195757
CREATED:20260421T104921Z
LAST-MODIFIED:20260421T110612Z
UID:5514-1781379000-1781384400@gallneukirchen.spoe.at
SUMMARY:Jubiläumskonzert - 140 Jahre Chorgemeinschaft
DESCRIPTION:140 Jahre Chorgemeinschaft oder „Gsangsverein“ – sehr Wohl ein Grund\, ein Jubiläumskonzert mit Stücken aus den bisherigen Jahren des Vereins zu präsentieren.
URL:https://gallneukirchen.spoe.at/veranstaltung/jubilaeumskonzert-140-jahre-chorgemeinschaft/
LOCATION:LMS
END:VEVENT
BEGIN:VEVENT
DTSTART;TZID=UTC:20260702T193000
DTEND;TZID=UTC:20260702T223000
DTSTAMP:20260421T195757
CREATED:20260406T131639Z
LAST-MODIFIED:20260406T131639Z
UID:5422-1783020600-1783031400@gallneukirchen.spoe.at
SUMMARY:Gemeinderatssitzung 3/2026
DESCRIPTION:
URL:https://gallneukirchen.spoe.at/veranstaltung/gemeinderatssitzung-3-2026/
LOCATION:Gusenhalle\, Veitsdorfer Weg 10\, Gallneukirchen\, Oberösterreich\, 4210\, Austria
END:VEVENT
BEGIN:VEVENT
DTSTART;TZID=UTC:20260703T180000
DTEND;TZID=UTC:20260703T230000
DTSTAMP:20260421T195757
CREATED:20260406T131241Z
LAST-MODIFIED:20260406T131241Z
UID:5417-1783101600-1783119600@gallneukirchen.spoe.at
SUMMARY:Grillfest der SPÖ Gallneukirchen
DESCRIPTION:
URL:https://gallneukirchen.spoe.at/veranstaltung/grillfest-der-spoe-gallneukirchen/
LOCATION:Gasthaus Landerl
END:VEVENT
BEGIN:VEVENT
DTSTART;TZID=UTC:20260828T170000
DTEND;TZID=UTC:20260829T000000
DTSTAMP:20260421T195757
CREATED:20260406T131524Z
LAST-MODIFIED:20260406T131524Z
UID:5419-1787936400-1787961600@gallneukirchen.spoe.at
SUMMARY:Weinfest der SPÖ Gallneukirchen
DESCRIPTION:
URL:https://gallneukirchen.spoe.at/veranstaltung/weinfest-der-spoe-gallneukirchen/
LOCATION:Pfarrplatz
END:VEVENT
BEGIN:VEVENT
DTSTART;TZID=UTC:20260912T140000
DTEND;TZID=UTC:20260912T180000
DTSTAMP:20260421T195757
CREATED:20260406T131948Z
LAST-MODIFIED:20260406T131948Z
UID:5424-1789221600-1789236000@gallneukirchen.spoe.at
SUMMARY:Spielplatzfest
DESCRIPTION:
URL:https://gallneukirchen.spoe.at/veranstaltung/spielplatzfest-2/
LOCATION:Spielplatz Veitsdorferweg
END:VEVENT
END:VCALENDAR