BEGIN:VCALENDAR
VERSION:2.0
PRODID:-//SPÖ Gallneukirchen - ECPv6.15.20//NONSGML v1.0//EN
CALSCALE:GREGORIAN
METHOD:PUBLISH
X-WR-CALNAME:SPÖ Gallneukirchen
X-ORIGINAL-URL:https://gallneukirchen.spoe.at
X-WR-CALDESC:Veranstaltungen für SPÖ Gallneukirchen
REFRESH-INTERVAL;VALUE=DURATION:PT1H
X-Robots-Tag:noindex
X-PUBLISHED-TTL:PT1H
BEGIN:VTIMEZONE
TZID:UTC
BEGIN:STANDARD
TZOFFSETFROM:+0000
TZOFFSETTO:+0000
TZNAME:UTC
DTSTART:20240101T000000
END:STANDARD
END:VTIMEZONE
BEGIN:VEVENT
DTSTART;TZID=UTC:20260417T170000
DTEND;TZID=UTC:20260417T190000
DTSTAMP:20260421T214522
CREATED:20260406T140632Z
LAST-MODIFIED:20260406T140632Z
UID:5430-1776445200-1776452400@gallneukirchen.spoe.at
SUMMARY:Pensionisten: Chanson-Abend "Seemann\, lass das Träumen"
DESCRIPTION:
URL:https://gallneukirchen.spoe.at/veranstaltung/pensionisten-chanson-abend-seemann-lass-das-traeumen/
LOCATION:Clubraum Pensionisten
END:VEVENT
BEGIN:VEVENT
DTSTART;TZID=UTC:20260409T140000
DTEND;TZID=UTC:20260409T160000
DTSTAMP:20260421T214522
CREATED:20260406T140432Z
LAST-MODIFIED:20260406T140432Z
UID:5427-1775743200-1775750400@gallneukirchen.spoe.at
SUMMARY:Pensionistenverband: Wir gründen ein Rollenspieltheater
DESCRIPTION:
URL:https://gallneukirchen.spoe.at/veranstaltung/pensionistenverband-wir-gruenden-ein-rollenspieltheater/
LOCATION:Clubraum Pensionisten
END:VEVENT
BEGIN:VEVENT
DTSTART;TZID=UTC:20260404T100000
DTEND;TZID=UTC:20260404T120000
DTSTAMP:20260421T214522
CREATED:20260120T165334Z
LAST-MODIFIED:20260302T165402Z
UID:5279-1775296800-1775304000@gallneukirchen.spoe.at
SUMMARY:Osternestlsuchen
DESCRIPTION:Osternestsuchen mit Kulinarik und Eiersuche
URL:https://gallneukirchen.spoe.at/veranstaltung/osternestlsuchen-2/
LOCATION:Pfarrgarten\, Gallneukirchen\, Oberösterreich\, 4210\, Austria
ATTACH;FMTTYPE=image/jpeg:https://gallneukirchen.spoe.at/wp-content/uploads/2026/01/ostern.jpg
END:VEVENT
BEGIN:VEVENT
DTSTART;TZID=UTC:20260331T190000
DTEND;TZID=UTC:20260331T213000
DTSTAMP:20260421T214522
CREATED:20260302T165221Z
LAST-MODIFIED:20260302T165729Z
UID:5311-1774983600-1774992600@gallneukirchen.spoe.at
SUMMARY:Konzert " Blonder Engel"
DESCRIPTION:Bürgermeister Sepp Wall-Strasser lädt alle Gallneukirchner:innen zum Konzert des Blonden Engels in die Gusenhalle ein. \nBitte um Reservierung des Tickets via KUPF-Plattform. \n  \n 
URL:https://gallneukirchen.spoe.at/veranstaltung/konzert-blonder-engel/
LOCATION:Gusenhalle\, Veitsdorfer Weg 10\, Gallneukirchen\, Oberösterreich\, 4210\, Austria
CATEGORIES:Kultur,Unterhaltung
ATTACH;FMTTYPE=image/jpeg:https://gallneukirchen.spoe.at/wp-content/uploads/2026/03/bengel.jpg
END:VEVENT
BEGIN:VEVENT
DTSTART;TZID=UTC:20260306T193000
DTEND;TZID=UTC:20260306T220000
DTSTAMP:20260421T214522
CREATED:20260119T164501Z
LAST-MODIFIED:20260119T165215Z
UID:5265-1772825400-1772834400@gallneukirchen.spoe.at
SUMMARY:Veranstaltung anlässlich des Weltfrauentags
DESCRIPTION:Frauentag_Flyer_A5_v4 (1)-3\n        \n           📥 Download PDF\n        \n     \n]  \nIn „Rekonstruktionen meiner Leben“ erzählt die 2001 verstorbene Marie Jahoda von ihrer Herkunft\, ihrer Tochter Lotte\, ihrer Zeit als Widerstandskämpferin sowie über ihre Laufbahn als politisch engagierte Sozialforscherin in den USA und England. Dabei  zeugt ihr Denken und Handeln klar\, wie sehr sehr sie die historischen Grenzen für einen weiblichen Lebensverlauf überschritten hat. \n„Marie Jahoda fasziniert als kluge\, innovative Sozialforscherin mit Herz. Sie hat sich mit Entschlossenheit und Mut für Demokratie engagiert – zu einer Zeit\, als diese Gesinnung für sie Verfolgung\, Gefängnis und Zwangsemigration bedeutete. Sie fasziniert als emanzipierte Frau\, die bereits in der ersten Hälfte des 20. Jahrhunderts international Karriere machte. Und sie fasziniert als musisch begabter Mensch\, sie spielte Cello und schrieb Gedichte.“ \nSo charakterisiert Maria Hofstätter jene Frau\, der sie seit nunmehr achtJahren eine Stimme gibt: Marie Jahoda (1907–2001)\, in Wien geborene Sozialpsychologin\, wurde zuerst als Koautorin der richtungsweisenden Studie „Die Arbeitslosen von Marienthal“ bekannt. Ihre neu erschienen Lebenserinnerungen machen deutlich\, wie sehr sie in ihrem Denken und Handeln die historischen Grenzen eines weiblichen Lebensverlaufs überschritten hat.
URL:https://gallneukirchen.spoe.at/veranstaltung/veranstaltung-anlaesslich-des-weltfrauentags/
LOCATION:Landesmusikschule\, Reichenauer Str. 12\, Gallneukirchen\, Oberösterreich\, 4210\, Austria
END:VEVENT
BEGIN:VEVENT
DTSTART;TZID=UTC:20251213T113000
DTEND;TZID=UTC:20251213T113000
DTSTAMP:20260421T214522
CREATED:20250707T121749Z
LAST-MODIFIED:20250707T132329Z
UID:4198-1765625400-1765625400@gallneukirchen.spoe.at
SUMMARY:Weihnachtsfeier
DESCRIPTION:Große Weihnachtsfeier der Ortsgruppe Gallneukirchen
URL:https://gallneukirchen.spoe.at/veranstaltung/weihnachtsfeier/
CATEGORIES:Feier
END:VEVENT
BEGIN:VEVENT
DTSTART;TZID=UTC:20251213T090000
DTEND;TZID=UTC:20251214T190000
DTSTAMP:20260421T214522
CREATED:20251102T142231Z
LAST-MODIFIED:20251102T142231Z
UID:4988-1765616400-1765738800@gallneukirchen.spoe.at
SUMMARY:Adventmarkt Galli
DESCRIPTION:Punschstand der SPÖ Gallneukirchen
URL:https://gallneukirchen.spoe.at/veranstaltung/adventmarkt-galli/
CATEGORIES:Advent,Brauchtum
END:VEVENT
BEGIN:VEVENT
DTSTART;TZID=UTC:20251204T124500
DTEND;TZID=UTC:20251204T124500
DTSTAMP:20260421T214522
CREATED:20250707T132329Z
LAST-MODIFIED:20250707T132329Z
UID:4396-1764852300-1764852300@gallneukirchen.spoe.at
SUMMARY:Halbtagesausflug
DESCRIPTION:Halbtagesausflug: „Weihnachtsmuseum Harrachstal auf der Mühlviertler Alm“
URL:https://gallneukirchen.spoe.at/veranstaltung/halbtagesausflug-2/
END:VEVENT
BEGIN:VEVENT
DTSTART;TZID=UTC:20251202T133000
DTEND;TZID=UTC:20251202T133000
DTSTAMP:20260421T214522
CREATED:20250707T132329Z
LAST-MODIFIED:20250707T132329Z
UID:4395-1764682200-1764682200@gallneukirchen.spoe.at
SUMMARY:Kekserlmarkt im Club
DESCRIPTION:
URL:https://gallneukirchen.spoe.at/veranstaltung/kekserlmarkt-im-club/
CATEGORIES:Markt
END:VEVENT
BEGIN:VEVENT
DTSTART;TZID=UTC:20251114T120000
DTEND;TZID=UTC:20251114T120000
DTSTAMP:20260421T214522
CREATED:20250707T132329Z
LAST-MODIFIED:20250707T132329Z
UID:4394-1763121600-1763121600@gallneukirchen.spoe.at
SUMMARY:Ganslessen
DESCRIPTION:Beim Deisinger
URL:https://gallneukirchen.spoe.at/veranstaltung/ganslessen/
CATEGORIES:Essen
END:VEVENT
BEGIN:VEVENT
DTSTART;TZID=UTC:20251108T083000
DTEND;TZID=UTC:20251108T083000
DTSTAMP:20260421T214522
CREATED:20250707T132314Z
LAST-MODIFIED:20250707T132314Z
UID:4393-1762590600-1762590600@gallneukirchen.spoe.at
SUMMARY:Kino-Frühstück
DESCRIPTION:
URL:https://gallneukirchen.spoe.at/veranstaltung/kino-fruehstueck-2/
CATEGORIES:Freizeit
END:VEVENT
BEGIN:VEVENT
DTSTART;TZID=UTC:20251030T000100
DTEND;TZID=UTC:20251030T000100
DTSTAMP:20260421T214522
CREATED:20250707T132314Z
LAST-MODIFIED:20250707T132314Z
UID:4391-1761782460-1761782460@gallneukirchen.spoe.at
SUMMARY:Mitgliederehrung im Seniorentreff
DESCRIPTION:
URL:https://gallneukirchen.spoe.at/veranstaltung/mitgliederehrung-im-seniorentreff/
CATEGORIES:Ehrung
END:VEVENT
BEGIN:VEVENT
DTSTART;TZID=UTC:20251024T090000
DTEND;TZID=UTC:20251024T090000
DTSTAMP:20260421T214522
CREATED:20250707T132259Z
LAST-MODIFIED:20250707T132259Z
UID:4388-1761296400-1761296400@gallneukirchen.spoe.at
SUMMARY:PVOÖ-Sozialservice
DESCRIPTION:Sprechtag der Sozialrechtsberaterin
URL:https://gallneukirchen.spoe.at/veranstaltung/pvooe-sozialservice/
CATEGORIES:Beratung
END:VEVENT
BEGIN:VEVENT
DTSTART;TZID=UTC:20251020T000100
DTEND;TZID=UTC:20251020T000100
DTSTAMP:20260421T214522
CREATED:20250707T132259Z
LAST-MODIFIED:20250707T132259Z
UID:4387-1760918460-1760918460@gallneukirchen.spoe.at
SUMMARY:4-Tagesausflug
DESCRIPTION:20.–23. Okt: Kulinarische Reise nach Südtirol
URL:https://gallneukirchen.spoe.at/veranstaltung/4-tagesausflug/
CATEGORIES:Reise
END:VEVENT
BEGIN:VEVENT
DTSTART;TZID=UTC:20251016T120000
DTEND;TZID=UTC:20251016T120000
DTSTAMP:20260421T214522
CREATED:20250707T132259Z
LAST-MODIFIED:20250707T132259Z
UID:4386-1760616000-1760616000@gallneukirchen.spoe.at
SUMMARY:Wildessen beim Landerl
DESCRIPTION:
URL:https://gallneukirchen.spoe.at/veranstaltung/wildessen-beim-landerl/
CATEGORIES:Essen
END:VEVENT
BEGIN:VEVENT
DTSTART;TZID=UTC:20251014T130000
DTEND;TZID=UTC:20251014T130000
DTSTAMP:20260421T214522
CREATED:20250707T132259Z
LAST-MODIFIED:20250707T132259Z
UID:4385-1760446800-1760446800@gallneukirchen.spoe.at
SUMMARY:Oktoberfest im Club
DESCRIPTION:
URL:https://gallneukirchen.spoe.at/veranstaltung/oktoberfest-im-club/
CATEGORIES:Fest
END:VEVENT
BEGIN:VEVENT
DTSTART;TZID=UTC:20251005T150000
DTEND;TZID=UTC:20251005T150000
DTSTAMP:20260421T214522
CREATED:20250707T132259Z
LAST-MODIFIED:20250707T132259Z
UID:4384-1759676400-1759676400@gallneukirchen.spoe.at
SUMMARY:Zeitreise
DESCRIPTION:70 Jahre Ortsgruppe Gallneukirchen
URL:https://gallneukirchen.spoe.at/veranstaltung/zeitreise-2/
CATEGORIES:Feier
END:VEVENT
BEGIN:VEVENT
DTSTART;TZID=UTC:20250927T070000
DTEND;TZID=UTC:20250927T070000
DTSTAMP:20260421T214522
CREATED:20250707T132244Z
LAST-MODIFIED:20250707T132244Z
UID:4383-1758956400-1758956400@gallneukirchen.spoe.at
SUMMARY:Tagesausflug
DESCRIPTION:Mit historischer Lok durchs Ötscherland
URL:https://gallneukirchen.spoe.at/veranstaltung/tagesausflug-3/
CATEGORIES:Ausflug
END:VEVENT
BEGIN:VEVENT
DTSTART;TZID=UTC:20250920T100000
DTEND;TZID=UTC:20250920T100000
DTSTAMP:20260421T214522
CREATED:20250707T132244Z
LAST-MODIFIED:20250707T132244Z
UID:4382-1758362400-1758362400@gallneukirchen.spoe.at
SUMMARY:Wandertag
DESCRIPTION:OG-Gallneukirchen
URL:https://gallneukirchen.spoe.at/veranstaltung/wandertag-2/
CATEGORIES:Wandern
END:VEVENT
BEGIN:VEVENT
DTSTART;TZID=UTC:20250918T170000
DTEND;TZID=UTC:20250918T170000
DTSTAMP:20260421T214522
CREATED:20250707T132244Z
LAST-MODIFIED:20250707T132244Z
UID:4381-1758214800-1758214800@gallneukirchen.spoe.at
SUMMARY:Im Gespräch
DESCRIPTION:
URL:https://gallneukirchen.spoe.at/veranstaltung/im-gespraech/
CATEGORIES:Gespräch
END:VEVENT
BEGIN:VEVENT
DTSTART;TZID=UTC:20250913T140000
DTEND;TZID=UTC:20250913T140000
DTSTAMP:20260421T214522
CREATED:20250707T132244Z
LAST-MODIFIED:20250707T132244Z
UID:4380-1757772000-1757772000@gallneukirchen.spoe.at
SUMMARY:Spielplatzfest
DESCRIPTION:Veitsdorferweg – Kinderfest
URL:https://gallneukirchen.spoe.at/veranstaltung/spielplatzfest/
CATEGORIES:Fest
END:VEVENT
BEGIN:VEVENT
DTSTART;TZID=UTC:20250910T100000
DTEND;TZID=UTC:20250910T100000
DTSTAMP:20260421T214522
CREATED:20250707T132244Z
LAST-MODIFIED:20250707T132244Z
UID:4379-1757498400-1757498400@gallneukirchen.spoe.at
SUMMARY:Ein bewegter Vormittag
DESCRIPTION:In der Motorikarena
URL:https://gallneukirchen.spoe.at/veranstaltung/ein-bewegter-vormittag/
CATEGORIES:Freizeit
END:VEVENT
BEGIN:VEVENT
DTSTART;TZID=UTC:20250829T170000
DTEND;TZID=UTC:20250829T170000
DTSTAMP:20260421T214522
CREATED:20250707T132229Z
LAST-MODIFIED:20250707T132229Z
UID:4378-1756486800-1756486800@gallneukirchen.spoe.at
SUMMARY:ROT-WEISS-ROT Weinfest
DESCRIPTION:Pfarrplatz – Weine & Schmankerl
URL:https://gallneukirchen.spoe.at/veranstaltung/rot-weiss-rot-weinfest-2/
CATEGORIES:Fest
END:VEVENT
BEGIN:VEVENT
DTSTART;TZID=UTC:20250815T120000
DTEND;TZID=UTC:20250815T120000
DTSTAMP:20260421T214522
CREATED:20250707T132229Z
LAST-MODIFIED:20250707T132229Z
UID:4377-1755259200-1755259200@gallneukirchen.spoe.at
SUMMARY:Kulturausflug
DESCRIPTION:15.–16. August: Seefestspiele Mörbisch
URL:https://gallneukirchen.spoe.at/veranstaltung/kulturausflug/
CATEGORIES:Kultur
END:VEVENT
BEGIN:VEVENT
DTSTART;TZID=UTC:20250801T100000
DTEND;TZID=UTC:20250801T100000
DTSTAMP:20260421T214522
CREATED:20250707T132229Z
LAST-MODIFIED:20250707T132229Z
UID:4375-1754042400-1754042400@gallneukirchen.spoe.at
SUMMARY:Rad-Aktiv
DESCRIPTION:Donauradweg Wilhering–Aschach–Ottensheim
URL:https://gallneukirchen.spoe.at/veranstaltung/rad-aktiv-3/
CATEGORIES:Radausflug
END:VEVENT
BEGIN:VEVENT
DTSTART;TZID=UTC:20250717T000100
DTEND;TZID=UTC:20250717T000100
DTSTAMP:20260421T214522
CREATED:20250707T132229Z
LAST-MODIFIED:20250707T132229Z
UID:4374-1752710460-1752710460@gallneukirchen.spoe.at
SUMMARY:Tagesausflug
DESCRIPTION:Ein ganzes Dorf voller Mohn
URL:https://gallneukirchen.spoe.at/veranstaltung/tagesausflug-2/
CATEGORIES:Ausflug
END:VEVENT
BEGIN:VEVENT
DTSTART;TZID=UTC:20250710T093000
DTEND;TZID=UTC:20250710T093000
DTSTAMP:20260421T214522
CREATED:20250707T132214Z
LAST-MODIFIED:20250707T132214Z
UID:4373-1752139800-1752139800@gallneukirchen.spoe.at
SUMMARY:Rad-Aktiv
DESCRIPTION:Mühlviertler Runde
URL:https://gallneukirchen.spoe.at/veranstaltung/rad-aktiv-2/
CATEGORIES:Radausflug
END:VEVENT
BEGIN:VEVENT
DTSTART;TZID=UTC:20250704T140000
DTEND;TZID=UTC:20250704T140000
DTSTAMP:20260421T214522
CREATED:20250707T132214Z
LAST-MODIFIED:20250707T132214Z
UID:4372-1751637600-1751637600@gallneukirchen.spoe.at
SUMMARY:Themenwanderung
DESCRIPTION:Alles Hopfen
URL:https://gallneukirchen.spoe.at/veranstaltung/themenwanderung-2/
CATEGORIES:Wandern
END:VEVENT
BEGIN:VEVENT
DTSTART;TZID=UTC:20250703T193000
DTEND;TZID=UTC:20250703T193000
DTSTAMP:20260421T214522
CREATED:20250707T121634Z
LAST-MODIFIED:20250707T132214Z
UID:4172-1751571000-1751571000@gallneukirchen.spoe.at
SUMMARY:Gemeinderat
DESCRIPTION:
URL:https://gallneukirchen.spoe.at/veranstaltung/gemeinderat/
CATEGORIES:Politik
END:VEVENT
BEGIN:VEVENT
DTSTART;TZID=UTC:20250626T000100
DTEND;TZID=UTC:20250626T000100
DTSTAMP:20260421T214522
CREATED:20250707T132214Z
LAST-MODIFIED:20250707T132214Z
UID:4371-1750896060-1750896060@gallneukirchen.spoe.at
SUMMARY:Mittagsausflug der Clubbesucher
DESCRIPTION:
URL:https://gallneukirchen.spoe.at/veranstaltung/mittagsausflug-der-clubbesucher/
CATEGORIES:Ausflug
END:VEVENT
END:VCALENDAR