BEGIN:VCALENDAR
VERSION:2.0
PRODID:-//SPÖ Gallneukirchen - ECPv6.15.20//NONSGML v1.0//EN
CALSCALE:GREGORIAN
METHOD:PUBLISH
X-ORIGINAL-URL:https://gallneukirchen.spoe.at
X-WR-CALDESC:Veranstaltungen für SPÖ Gallneukirchen
REFRESH-INTERVAL;VALUE=DURATION:PT1H
X-Robots-Tag:noindex
X-PUBLISHED-TTL:PT1H
BEGIN:VTIMEZONE
TZID:UTC
BEGIN:STANDARD
TZOFFSETFROM:+0000
TZOFFSETTO:+0000
TZNAME:UTC
DTSTART:20240101T000000
END:STANDARD
END:VTIMEZONE
BEGIN:VEVENT
DTSTART;TZID=UTC:20250425T000100
DTEND;TZID=UTC:20250425T000100
DTSTAMP:20260422T160953
CREATED:20250707T132059Z
LAST-MODIFIED:20250707T132059Z
UID:4348-1745539260-1745539260@gallneukirchen.spoe.at
SUMMARY:RadAktiv
DESCRIPTION:Alpenblick-Runde in der Marchland-Ebene (52\,5 km)
URL:https://gallneukirchen.spoe.at/veranstaltung/radaktiv/
CATEGORIES:Radausflug
END:VEVENT
END:VCALENDAR