BEGIN:VCALENDAR
VERSION:2.0
PRODID:-//SPÖ Gallneukirchen - ECPv6.15.20//NONSGML v1.0//EN
CALSCALE:GREGORIAN
METHOD:PUBLISH
X-ORIGINAL-URL:https://gallneukirchen.spoe.at
X-WR-CALDESC:Veranstaltungen für SPÖ Gallneukirchen
REFRESH-INTERVAL;VALUE=DURATION:PT1H
X-Robots-Tag:noindex
X-PUBLISHED-TTL:PT1H
BEGIN:VTIMEZONE
TZID:UTC
BEGIN:STANDARD
TZOFFSETFROM:+0000
TZOFFSETTO:+0000
TZNAME:UTC
DTSTART:20240101T000000
END:STANDARD
END:VTIMEZONE
BEGIN:VEVENT
DTSTART;TZID=UTC:20250307T150000
DTEND;TZID=UTC:20250307T150000
DTSTAMP:20260422T173252
CREATED:20250707T132025Z
LAST-MODIFIED:20250707T132025Z
UID:4332-1741359600-1741359600@gallneukirchen.spoe.at
SUMMARY:Workshop: Wer war Olympe de Gouges?
DESCRIPTION:Einführungsworkshop mit Dr. Viktoria Frysak
URL:https://gallneukirchen.spoe.at/veranstaltung/workshop-wer-war-olympe-de-gouges/
CATEGORIES:Workshop
END:VEVENT
BEGIN:VEVENT
DTSTART;TZID=UTC:20250307T193000
DTEND;TZID=UTC:20250307T193000
DTSTAMP:20260422T173253
CREATED:20250707T132025Z
LAST-MODIFIED:20250707T132025Z
UID:4333-1741375800-1741375800@gallneukirchen.spoe.at
SUMMARY:Konzertperformance: Hommage an Olympe de Gouges
DESCRIPTION:Musikalische Hommage mit Improvisation und Texten
URL:https://gallneukirchen.spoe.at/veranstaltung/konzertperformance-hommage-an-olympe-de-gouges/
CATEGORIES:Kultur
END:VEVENT
END:VCALENDAR